BEGIN:VCALENDAR
VERSION:2.0
PRODID:sbir-prod-acsf.cancer.gov
BEGIN:VEVENT
UID:69e7646a20936
DTSTART:20240913T180000Z
SEQUENCE:0
TRANSP:OPAQUE
DTEND:20240913T190000Z
SUMMARY:Meet NCI SBIR at NanoDDS 2024
CLASS:PUBLIC
DESCRIPTION:Learn about funding for biotech researchers during the 22nd Int
 ernational Nanomedicine and Drug Delivery Symposium.
DTSTAMP:20260421T115002Z
END:VEVENT
END:VCALENDAR